Package: FRASER Version: 2.4.3 Command: /home/biocbuild/R/R/bin/R CMD check --install=check:FRASER.install-out.txt --library=/home/biocbuild/R/R/site-library --no-vignettes --timings FRASER_2.4.3.tar.gz StartedAt: 2025-10-14 09:15:34 -0000 (Tue, 14 Oct 2025) EndedAt: 2025-10-14 09:38:53 -0000 (Tue, 14 Oct 2025) EllapsedTime: 1398.8 seconds RetCode: 0 Status: OK CheckDir: FRASER.Rcheck Warnings: 0