############################################################################## ############################################################################## ### ### Running command: ### ### /home/biocbuild/R/R/bin/R CMD check --install=check:FRASER.install-out.txt --library=/home/biocbuild/R/R/site-library --no-vignettes --timings FRASER_2.4.3.tar.gz ### ############################################################################## ############################################################################## * using log directory ‘/home/biocbuild/bbs-3.21-bioc/meat/FRASER.Rcheck’ * using R Under development (unstable) (2025-02-19 r87757) * using platform: aarch64-unknown-linux-gnu * R was compiled by aarch64-unknown-linux-gnu-gcc (GCC) 14.2.0 GNU Fortran (GCC) 14.2.0 * running under: openEuler 24.03 (LTS-SP1) * using session charset: UTF-8 * using option ‘--no-vignettes’ * checking for file ‘FRASER/DESCRIPTION’ ... OK * checking extension type ... Package * this is package ‘FRASER’ version ‘2.4.3’ * package encoding: UTF-8 * checking package namespace information ... OK * checking package dependencies ... INFO Imports includes 34 non-default packages. Importing from so many packages makes the package vulnerable to any of them becoming unavailable. Move as many as possible to Suggests and use conditionally. * checking if this is a source package ... OK * checking if there is a namespace ... OK * checking for hidden files and directories ... OK * checking for portable file names ... OK * checking for sufficient/correct file permissions ... OK * checking whether package ‘FRASER’ can be installed ... OK * used C++ compiler: ‘aarch64-unknown-linux-gnu-g++ (GCC) 14.2.0’ * checking installed package size ... INFO installed size is 7.8Mb sub-directories of 1Mb or more: R 1.4Mb libs 5.4Mb * checking package directory ... OK * checking ‘build’ directory ... OK * checking DESCRIPTION meta-information ... OK * checking top-level files ... OK * checking for left-over files ... OK * checking index information ... OK * checking package subdirectories ... OK * checking code files for non-ASCII characters ... OK * checking R files for syntax errors ... OK * checking whether the package can be loaded ... OK * checking whether the package can be loaded with stated dependencies ... OK * checking whether the package can be unloaded cleanly ... OK * checking whether the namespace can be loaded with stated dependencies ... OK * checking whether the namespace can be unloaded cleanly ... OK * checking loading without being on the library search path ... OK * checking whether startup messages can be suppressed ... OK * checking dependencies in R code ... NOTE Unexported objects imported by ':::' calls: 'S4Vectors:::selectSome' 'ggbio:::.buildFacetsFromArgs' See the note in ?`:::` about the use of this operator. * checking S3 generic/method consistency ... OK * checking replacement functions ... OK * checking foreign function calls ... OK * checking R code for possible problems ... NOTE annotateRangesWithTxDb: no visible binding for global variable ‘include’ calculatePadjValuesOnSubset : : no visible binding for global variable ‘gene_rowIdx’ estimateBestQ: no visible binding for global variable ‘oht’ hyperParams: no visible binding for global variable ‘oht’ loadFraserDataSet: no visible global function definition for ‘slotNames’ plotEncDimSearch.FRASER: no visible binding for global variable ‘oht’ plotEncDimSearch.FRASER: no visible binding for global variable ‘singular_values’ plotVolcano.FRASER: no visible binding for global variable ‘aberrantLabel’ updateSeqlevelsStyle: no visible binding for global variable ‘NCBI_Genome_Name’ updateSeqlevelsStyle: no visible global function definition for ‘setNames’ updateSeqlevelsStyle: no visible global function definition for ‘seqnames<-’ updateSeqlevelsStyle: no visible binding for global variable ‘UCSC_Genome_Name’ plotEncDimSearch,FraserDataSet: no visible binding for global variable ‘oht’ plotEncDimSearch,FraserDataSet: no visible binding for global variable ‘singular_values’ plotVolcano,FraserDataSet: no visible binding for global variable ‘aberrantLabel’ results,FraserDataSet: no visible binding for global variable ‘padjust’ results,FraserDataSet: no visible binding for global variable ‘pValueGene’ results,FraserDataSet: no visible binding for global variable ‘padjustGene’ Undefined global functions or variables: NCBI_Genome_Name UCSC_Genome_Name aberrantLabel gene_rowIdx include oht pValueGene padjust padjustGene seqnames<- setNames singular_values slotNames Consider adding importFrom("methods", "slotNames") importFrom("stats", "setNames") to your NAMESPACE file (and ensure that your DESCRIPTION Imports field contains 'methods'). * checking Rd files ... OK * checking Rd metadata ... OK * checking Rd cross-references ... NOTE Found the following Rd file(s) with Rd \link{} targets missing package anchors: plotFunctions.Rd: aberrant Please provide package anchors for all Rd \link{} targets not in the package itself and the base packages. * checking for missing documentation entries ... OK * checking for code/documentation mismatches ... OK * checking Rd \usage sections ... OK * checking Rd contents ... OK * checking for unstated dependencies in examples ... OK * checking line endings in C/C++/Fortran sources/headers ... OK * checking line endings in Makefiles ... OK * checking compilation flags in Makevars ... OK * checking for GNU extensions in Makefiles ... OK * checking for portable use of $(BLAS_LIBS) and $(LAPACK_LIBS) ... OK * checking use of PKG_*FLAGS in Makefiles ... OK * checking compiled code ... NOTE Note: information on .o files is not available * checking files in ‘vignettes’ ... OK * checking examples ... OK Examples with CPU (user + system) or elapsed time > 5s user system elapsed plotFunctions 172.103 0.978 173.537 potentialImpactAnnotations 60.735 0.355 61.223 FRASER 55.347 0.806 56.370 injectOutliers 38.861 0.123 39.044 results 31.312 0.123 31.509 annotateRanges 29.420 1.643 38.232 mergeExternalData 30.762 0.231 31.067 estimateBestQ 28.975 0.347 29.396 calculatePSIValues 25.561 1.041 26.668 filtering 23.777 0.100 23.930 fds-methods 23.299 0.104 23.454 subset 22.866 0.224 23.139 getter_setter_functions 22.324 0.164 22.538 counts 21.774 0.403 22.228 createTestFraserDataSet 21.777 0.243 22.070 makeSimulatedFraserDataSet 5.760 0.020 5.794 * checking for unstated dependencies in ‘tests’ ... OK * checking tests ... Running ‘testthat.R’ OK * checking for unstated dependencies in vignettes ... OK * checking package vignettes ... OK * checking running R code from vignettes ... SKIPPED * checking re-building of vignette outputs ... SKIPPED * checking PDF version of manual ... OK * DONE Status: 4 NOTEs See ‘/home/biocbuild/bbs-3.21-bioc/meat/FRASER.Rcheck/00check.log’ for details.