Package: FRASER Version: 2.4.3 Command: /home/biocbuild/R/R/bin/R CMD build --keep-empty-dirs --no-resave-data FRASER StartedAt: 2025-10-14 00:57:55 -0000 (Tue, 14 Oct 2025) EndedAt: 2025-10-14 01:04:22 -0000 (Tue, 14 Oct 2025) EllapsedTime: 387.1 seconds RetCode: 0 Status: OK PackageFile: FRASER_2.4.3.tar.gz PackageFileSize: 2.422 MiB