Package: FRASER Version: 2.4.3 Command: /Library/Frameworks/R.framework/Resources/bin/R CMD INSTALL FRASER StartedAt: 2025-10-13 17:28:10 -0400 (Mon, 13 Oct 2025) EndedAt: 2025-10-13 17:29:38 -0400 (Mon, 13 Oct 2025) EllapsedTime: 87.4 seconds RetCode: 0 Status: OK