Package: FLAMES Version: 2.2.0 Command: rm -rf FLAMES.buildbin-libdir && mkdir FLAMES.buildbin-libdir && /Users/biocbuild/BBS/utils/build-universal.sh FLAMES_2.2.0.tar.gz /Library/Frameworks/R.framework/Resources/bin/R FLAMES.buildbin-libdir StartedAt: 2025-10-14 13:27:21 -0400 (Tue, 14 Oct 2025) EndedAt: 2025-10-14 13:33:23 -0400 (Tue, 14 Oct 2025) EllapsedTime: 362.1 seconds RetCode: 0 Status: OK PackageFile: FLAMES_2.2.0.tgz PackageFileSize: 5.047 MiB