Package: FGNet Version: 3.44.0 Command: /home/biocbuild/R/R/bin/R CMD build --keep-empty-dirs --no-resave-data FGNet StartedAt: 2025-11-18 01:36:39 -0000 (Tue, 18 Nov 2025) EndedAt: 2025-11-18 01:37:01 -0000 (Tue, 18 Nov 2025) EllapsedTime: 22.0 seconds RetCode: 0 Status: OK PackageFile: FGNet_3.44.0.tar.gz PackageFileSize: 2.744 MiB