Package: FELLA Version: 1.30.0 Command: /home/biocbuild/R/R/bin/R CMD INSTALL FELLA StartedAt: 2025-11-17 21:32:27 -0000 (Mon, 17 Nov 2025) EndedAt: 2025-11-17 21:32:48 -0000 (Mon, 17 Nov 2025) EllapsedTime: 21.2 seconds RetCode: 0 Status: OK