Package: FELLA Version: 1.30.0 Command: /home/biocbuild/R/R/bin/R CMD build --keep-empty-dirs --no-resave-data FELLA StartedAt: 2025-11-18 01:35:58 -0000 (Tue, 18 Nov 2025) EndedAt: 2025-11-18 02:01:06 -0000 (Tue, 18 Nov 2025) EllapsedTime: 1508.6 seconds RetCode: 1 Status: ERROR PackageFile: None PackageFileSize: NA