Package: FELLA Version: 1.30.0 Command: /home/biocbuild/bbs-3.22-bioc/R/bin/R CMD INSTALL FELLA StartedAt: 2025-11-17 17:17:18 -0500 (Mon, 17 Nov 2025) EndedAt: 2025-11-17 17:17:34 -0500 (Mon, 17 Nov 2025) EllapsedTime: 16.0 seconds RetCode: 0 Status: OK