Package: FELLA Version: 1.30.0 Command: /Library/Frameworks/R.framework/Resources/bin/R CMD INSTALL FELLA StartedAt: 2025-11-10 15:08:52 -0500 (Mon, 10 Nov 2025) EndedAt: 2025-11-10 15:08:58 -0500 (Mon, 10 Nov 2025) EllapsedTime: 5.8 seconds RetCode: 0 Status: OK