Package: FEAST Version: 1.17.0 Command: /home/biocbuild/R/R/bin/R CMD build --keep-empty-dirs --no-resave-data FEAST StartedAt: 2025-10-20 23:45:38 -0000 (Mon, 20 Oct 2025) EndedAt: 2025-10-20 23:47:00 -0000 (Mon, 20 Oct 2025) EllapsedTime: 82.1 seconds RetCode: 0 Status: OK PackageFile: FEAST_1.17.0.tar.gz PackageFileSize: 3.465 MiB