Package: FEAST Version: 1.18.0 Command: /home/biocbuild/bbs-3.22-bioc/R/bin/R CMD check --install=check:FEAST.install-out.txt --library=/home/biocbuild/bbs-3.22-bioc/R/site-library --timings FEAST_1.18.0.tar.gz StartedAt: 2025-11-09 23:45:36 -0500 (Sun, 09 Nov 2025) EndedAt: 2025-11-09 23:49:46 -0500 (Sun, 09 Nov 2025) EllapsedTime: 249.3 seconds RetCode: 0 Status: OK CheckDir: FEAST.Rcheck Warnings: 0