Package: ExpressionAtlas Version: 2.1.1 Command: /home/biocbuild/R/R/bin/R CMD check --install=check:ExpressionAtlas.install-out.txt --library=/home/biocbuild/R/R/site-library --no-vignettes --timings ExpressionAtlas_2.1.1.tar.gz StartedAt: 2025-10-17 08:52:29 -0000 (Fri, 17 Oct 2025) EndedAt: 2025-10-17 08:57:09 -0000 (Fri, 17 Oct 2025) EllapsedTime: 280.2 seconds RetCode: 0 Status: OK CheckDir: ExpressionAtlas.Rcheck Warnings: 0