Package: ExpressionAtlas Version: 2.1.0 Command: F:\biocbuild\bbs-3.22-bioc\R\bin\R.exe CMD check --no-multiarch --install=check:ExpressionAtlas.install-out.txt --library=F:\biocbuild\bbs-3.22-bioc\R\library --no-vignettes --timings ExpressionAtlas_2.1.0.tar.gz StartedAt: 2025-08-15 03:10:03 -0400 (Fri, 15 Aug 2025) EndedAt: 2025-08-15 03:13:51 -0400 (Fri, 15 Aug 2025) EllapsedTime: 228.0 seconds RetCode: 0 Status: OK CheckDir: ExpressionAtlas.Rcheck Warnings: 0