Package: ExpressionAtlas Version: 2.2.0 Command: /Library/Frameworks/R.framework/Resources/bin/R CMD check --install=check:ExpressionAtlas.install-out.txt --library=/Library/Frameworks/R.framework/Resources/library --no-vignettes --timings ExpressionAtlas_2.2.0.tar.gz StartedAt: 2025-11-03 21:09:42 -0500 (Mon, 03 Nov 2025) EndedAt: 2025-11-03 21:14:29 -0500 (Mon, 03 Nov 2025) EllapsedTime: 287.0 seconds RetCode: 0 Status: OK CheckDir: ExpressionAtlas.Rcheck Warnings: 0