Package: ExpressionAtlas Version: 2.2.0 Command: rm -rf ExpressionAtlas.buildbin-libdir && mkdir ExpressionAtlas.buildbin-libdir && /Users/biocbuild/BBS/utils/build-universal.sh ExpressionAtlas_2.2.0.tar.gz /Library/Frameworks/R.framework/Resources/bin/R ExpressionAtlas.buildbin-libdir StartedAt: 2025-11-04 01:39:47 -0500 (Tue, 04 Nov 2025) EndedAt: 2025-11-04 01:40:23 -0500 (Tue, 04 Nov 2025) EllapsedTime: 35.5 seconds RetCode: 0 Status: OK PackageFile: ExpressionAtlas_2.2.0.tgz PackageFileSize: 346.3 KiB