Package: ExpressionAtlas Version: 2.2.0 Command: /Library/Frameworks/R.framework/Resources/bin/R CMD check --install=check:ExpressionAtlas.install-out.txt --library=/Library/Frameworks/R.framework/Resources/library --no-vignettes --timings ExpressionAtlas_2.2.0.tar.gz StartedAt: 2025-11-06 19:44:18 -0500 (Thu, 06 Nov 2025) EndedAt: 2025-11-06 19:45:46 -0500 (Thu, 06 Nov 2025) EllapsedTime: 88.1 seconds RetCode: 0 Status: OK CheckDir: ExpressionAtlas.Rcheck Warnings: 0