Package: ExpressionAtlas Version: 2.2.0 Command: /Library/Frameworks/R.framework/Resources/bin/R CMD build --keep-empty-dirs --no-resave-data ExpressionAtlas StartedAt: 2025-11-06 16:22:59 -0500 (Thu, 06 Nov 2025) EndedAt: 2025-11-06 16:23:13 -0500 (Thu, 06 Nov 2025) EllapsedTime: 14.2 seconds RetCode: 0 Status: OK PackageFile: ExpressionAtlas_2.2.0.tar.gz PackageFileSize: 319.3 KiB