Package: ExpressionAtlas Version: 2.2.0 Command: rm -rf ExpressionAtlas.buildbin-libdir && mkdir ExpressionAtlas.buildbin-libdir && /Users/biocbuild/BBS/utils/build-universal.sh ExpressionAtlas_2.2.0.tar.gz /Library/Frameworks/R.framework/Resources/bin/R ExpressionAtlas.buildbin-libdir StartedAt: 2025-11-06 23:04:39 -0500 (Thu, 06 Nov 2025) EndedAt: 2025-11-06 23:04:49 -0500 (Thu, 06 Nov 2025) EllapsedTime: 10.2 seconds RetCode: 0 Status: OK PackageFile: ExpressionAtlas_2.2.0.tgz PackageFileSize: 346.8 KiB