Package: ExploreModelMatrix Version: 1.21.2 Command: /home/biocbuild/R/R/bin/R CMD check --install=check:ExploreModelMatrix.install-out.txt --library=/home/biocbuild/R/R/site-library --no-vignettes --timings ExploreModelMatrix_1.21.2.tar.gz StartedAt: 2025-10-17 08:52:23 -0000 (Fri, 17 Oct 2025) EndedAt: 2025-10-17 08:54:02 -0000 (Fri, 17 Oct 2025) EllapsedTime: 99.1 seconds RetCode: 0 Status: OK CheckDir: ExploreModelMatrix.Rcheck Warnings: 0