Package: ExploreModelMatrix Version: 1.22.0 Command: /home/biocbuild/bbs-3.22-bioc/R/bin/R CMD check --install=check:ExploreModelMatrix.install-out.txt --library=/home/biocbuild/bbs-3.22-bioc/R/site-library --timings ExploreModelMatrix_1.22.0.tar.gz StartedAt: 2025-11-09 23:42:16 -0500 (Sun, 09 Nov 2025) EndedAt: 2025-11-09 23:43:38 -0500 (Sun, 09 Nov 2025) EllapsedTime: 82.1 seconds RetCode: 0 Status: OK CheckDir: ExploreModelMatrix.Rcheck Warnings: 0