Package: ExploreModelMatrix Version: 1.22.0 Command: /home/biocbuild/bbs-3.22-bioc/R/bin/R CMD build --keep-empty-dirs --no-resave-data --md5 ExploreModelMatrix StartedAt: 2025-11-09 17:40:51 -0500 (Sun, 09 Nov 2025) EndedAt: 2025-11-09 17:41:09 -0500 (Sun, 09 Nov 2025) EllapsedTime: 18.0 seconds RetCode: 0 Status: OK PackageFile: ExploreModelMatrix_1.22.0.tar.gz PackageFileSize: 2.564 MiB