Package: ExperimentHub Version: 3.0.0 Command: /home/biocbuild/R/R/bin/R CMD build --keep-empty-dirs --no-resave-data ExperimentHub StartedAt: 2025-11-21 02:20:22 -0000 (Fri, 21 Nov 2025) EndedAt: 2025-11-21 02:21:12 -0000 (Fri, 21 Nov 2025) EllapsedTime: 50.0 seconds RetCode: 0 Status: OK PackageFile: ExperimentHub_3.0.0.tar.gz PackageFileSize: 517.5 KiB