Package: ExperimentHub Version: 3.0.0 Command: /home/biocbuild/bbs-3.22-bioc/R/bin/R CMD check --install=check:ExperimentHub.install-out.txt --library=/home/biocbuild/bbs-3.22-bioc/R/site-library --timings ExperimentHub_3.0.0.tar.gz StartedAt: 2025-11-06 23:29:24 -0500 (Thu, 06 Nov 2025) EndedAt: 2025-11-06 23:31:25 -0500 (Thu, 06 Nov 2025) EllapsedTime: 121.1 seconds RetCode: 0 Status: WARNINGS CheckDir: ExperimentHub.Rcheck Warnings: 1