Package: ExiMiR Version: 2.52.0 Command: /home/biocbuild/R/R/bin/R CMD check --install=check:ExiMiR.install-out.txt --library=/home/biocbuild/R/R/site-library --no-vignettes --timings ExiMiR_2.52.0.tar.gz StartedAt: 2025-11-18 09:45:20 -0000 (Tue, 18 Nov 2025) EndedAt: 2025-11-18 09:46:28 -0000 (Tue, 18 Nov 2025) EllapsedTime: 68.1 seconds RetCode: 0 Status: OK CheckDir: ExiMiR.Rcheck Warnings: 0