Package: ExiMiR Version: 2.51.0 Command: F:\biocbuild\bbs-3.22-bioc\R\bin\R.exe CMD INSTALL ExiMiR StartedAt: 2025-08-14 15:39:09 -0400 (Thu, 14 Aug 2025) EndedAt: 2025-08-14 15:39:26 -0400 (Thu, 14 Aug 2025) EllapsedTime: 16.8 seconds RetCode: 0 Status: OK