Package: ExiMiR Version: 2.51.0 Command: rm -rf ExiMiR.buildbin-libdir && mkdir ExiMiR.buildbin-libdir && F:\biocbuild\bbs-3.22-bioc\R\bin\R.exe CMD INSTALL --build --library=ExiMiR.buildbin-libdir ExiMiR_2.51.0.tar.gz StartedAt: 2025-08-15 10:15:19 -0400 (Fri, 15 Aug 2025) EndedAt: 2025-08-15 10:15:35 -0400 (Fri, 15 Aug 2025) EllapsedTime: 15.9 seconds RetCode: 0 Status: OK PackageFile: ExiMiR_2.51.0.zip PackageFileSize: 1.065 MiB