Package: ExiMiR Version: 2.50.0 Command: /Library/Frameworks/R.framework/Resources/bin/R CMD INSTALL ExiMiR StartedAt: 2025-09-25 15:21:40 -0400 (Thu, 25 Sep 2025) EndedAt: 2025-09-25 15:21:59 -0400 (Thu, 25 Sep 2025) EllapsedTime: 19.7 seconds RetCode: 0 Status: OK