Package: ExiMiR Version: 2.50.0 Command: /home/biocbuild/R/R/bin/R CMD INSTALL ExiMiR StartedAt: 2025-09-25 20:25:09 -0000 (Thu, 25 Sep 2025) EndedAt: 2025-09-25 20:25:18 -0000 (Thu, 25 Sep 2025) EllapsedTime: 8.6 seconds RetCode: 0 Status: OK