Package: ExiMiR Version: 2.50.0 Command: /home/biocbuild/R/R/bin/R CMD check --install=check:ExiMiR.install-out.txt --library=/home/biocbuild/R/R/site-library --no-vignettes --timings ExiMiR_2.50.0.tar.gz StartedAt: 2025-09-30 09:31:14 -0000 (Tue, 30 Sep 2025) EndedAt: 2025-09-30 09:32:20 -0000 (Tue, 30 Sep 2025) EllapsedTime: 66.0 seconds RetCode: 0 Status: OK CheckDir: ExiMiR.Rcheck Warnings: 0