Package: ExiMiR Version: 2.50.0 Command: /home/biocbuild/R/R/bin/R CMD build --keep-empty-dirs --no-resave-data ExiMiR StartedAt: 2025-09-26 01:20:08 -0000 (Fri, 26 Sep 2025) EndedAt: 2025-09-26 01:21:52 -0000 (Fri, 26 Sep 2025) EllapsedTime: 104.0 seconds RetCode: 0 Status: OK PackageFile: ExiMiR_2.50.0.tar.gz PackageFileSize: 1.497 MiB