Package: EventPointer Version: 3.18.0 Command: /home/biocbuild/R/R/bin/R CMD build --keep-empty-dirs --no-resave-data EventPointer StartedAt: 2025-11-21 02:19:28 -0000 (Fri, 21 Nov 2025) EndedAt: 2025-11-21 02:21:12 -0000 (Fri, 21 Nov 2025) EllapsedTime: 104.1 seconds RetCode: 0 Status: OK PackageFile: EventPointer_3.18.0.tar.gz PackageFileSize: 1.666 MiB