Package: EventPointer Version: 3.16.0 Command: /Library/Frameworks/R.framework/Resources/bin/R CMD check --install=check:EventPointer.install-out.txt --library=/Library/Frameworks/R.framework/Resources/library --no-vignettes --timings EventPointer_3.16.0.tar.gz StartedAt: 2025-10-14 03:36:48 -0400 (Tue, 14 Oct 2025) EndedAt: 2025-10-14 03:49:08 -0400 (Tue, 14 Oct 2025) EllapsedTime: 739.7 seconds RetCode: 0 Status: OK CheckDir: EventPointer.Rcheck Warnings: 0