Package: EpiMix Version: 1.10.0 Command: /home/biocbuild/R/R/bin/R CMD check --install=check:EpiMix.install-out.txt --library=/home/biocbuild/R/R/site-library --no-vignettes --timings EpiMix_1.10.0.tar.gz StartedAt: 2025-10-07 09:07:51 -0000 (Tue, 07 Oct 2025) EndedAt: 2025-10-07 09:19:55 -0000 (Tue, 07 Oct 2025) EllapsedTime: 723.4 seconds RetCode: 0 Status: OK CheckDir: EpiMix.Rcheck Warnings: 0