Package: EpiMix Version: 1.10.0 Command: /home/biocbuild/R/R/bin/R CMD build --keep-empty-dirs --no-resave-data EpiMix StartedAt: 2025-10-07 00:42:06 -0000 (Tue, 07 Oct 2025) EndedAt: 2025-10-07 01:06:40 -0000 (Tue, 07 Oct 2025) EllapsedTime: 1473.6 seconds RetCode: 0 Status: OK PackageFile: EpiMix_1.10.0.tar.gz PackageFileSize: 2.894 MiB