Package: EpiMix Version: 1.10.0 Command: /Library/Frameworks/R.framework/Resources/bin/R CMD INSTALL EpiMix StartedAt: 2025-09-29 17:21:24 -0400 (Mon, 29 Sep 2025) EndedAt: 2025-09-29 17:22:14 -0400 (Mon, 29 Sep 2025) EllapsedTime: 50.0 seconds RetCode: 0 Status: OK