Package: EpiMix Version: 1.10.0 Command: rm -rf EpiMix.buildbin-libdir && mkdir EpiMix.buildbin-libdir && /Users/biocbuild/BBS/utils/build-universal.sh EpiMix_1.10.0.tar.gz /Library/Frameworks/R.framework/Resources/bin/R EpiMix.buildbin-libdir StartedAt: 2025-10-01 18:22:43 -0400 (Wed, 01 Oct 2025) EndedAt: 2025-10-01 18:23:38 -0400 (Wed, 01 Oct 2025) EllapsedTime: 55.0 seconds RetCode: 0 Status: OK PackageFile: EpiMix_1.10.0.tgz PackageFileSize: 2.356 MiB