Package: EpiDISH Version: 2.24.0 Command: chmod a+r EpiDISH -R && E:\biocbuild\bbs-3.21-bioc\R\bin\R.exe CMD build --keep-empty-dirs --no-resave-data EpiDISH StartedAt: 2025-08-14 18:50:29 -0400 (Thu, 14 Aug 2025) EndedAt: 2025-08-14 18:50:56 -0400 (Thu, 14 Aug 2025) EllapsedTime: 26.8 seconds RetCode: 0 Status: OK PackageFile: EpiDISH_2.24.0.tar.gz PackageFileSize: 3.094 MiB