Package: EpiDISH Version: 2.24.0 Command: rm -rf EpiDISH.buildbin-libdir && mkdir EpiDISH.buildbin-libdir && E:\biocbuild\bbs-3.21-bioc\R\bin\R.exe CMD INSTALL --build --library=EpiDISH.buildbin-libdir EpiDISH_2.24.0.tar.gz StartedAt: 2025-08-15 09:14:41 -0400 (Fri, 15 Aug 2025) EndedAt: 2025-08-15 09:14:53 -0400 (Fri, 15 Aug 2025) EllapsedTime: 12.7 seconds RetCode: 0 Status: OK PackageFile: EpiDISH_2.24.0.zip PackageFileSize: 2.107 MiB