Package: EpiDISH Version: 2.24.0 Command: /home/biocbuild/R/R/bin/R CMD build --keep-empty-dirs --no-resave-data EpiDISH StartedAt: 2025-09-26 01:05:57 -0000 (Fri, 26 Sep 2025) EndedAt: 2025-09-26 01:06:19 -0000 (Fri, 26 Sep 2025) EllapsedTime: 22.0 seconds RetCode: 0 Status: OK PackageFile: EpiDISH_2.24.0.tar.gz PackageFileSize: 3.123 MiB