Package: EpiDISH Version: 2.24.0 Command: /Library/Frameworks/R.framework/Resources/bin/R CMD INSTALL EpiDISH StartedAt: 2025-10-02 15:17:57 -0400 (Thu, 02 Oct 2025) EndedAt: 2025-10-02 15:18:07 -0400 (Thu, 02 Oct 2025) EllapsedTime: 9.2 seconds RetCode: 0 Status: OK