Package: EpiCompare Version: 1.13.2 Command: /home/biocbuild/R/R/bin/R CMD INSTALL EpiCompare StartedAt: 2025-10-23 21:25:37 -0000 (Thu, 23 Oct 2025) EndedAt: 2025-10-23 21:26:41 -0000 (Thu, 23 Oct 2025) EllapsedTime: 64.6 seconds RetCode: 0 Status: OK