Package: EpiCompare Version: 1.14.0 Command: /home/biocbuild/bbs-3.22-bioc/R/bin/R CMD INSTALL EpiCompare StartedAt: 2025-11-09 16:03:10 -0500 (Sun, 09 Nov 2025) EndedAt: 2025-11-09 16:04:08 -0500 (Sun, 09 Nov 2025) EllapsedTime: 57.8 seconds RetCode: 0 Status: OK