Package: EpiCompare Version: 1.14.0 Command: /home/biocbuild/bbs-3.22-bioc/R/bin/R CMD build --keep-empty-dirs --no-resave-data --md5 EpiCompare StartedAt: 2025-11-10 17:36:46 -0500 (Mon, 10 Nov 2025) EndedAt: 2025-11-10 17:38:00 -0500 (Mon, 10 Nov 2025) EllapsedTime: 74.1 seconds RetCode: 0 Status: OK PackageFile: EpiCompare_1.14.0.tar.gz PackageFileSize: 1.881 MiB