Package: EpiCompare Version: 1.14.0 Command: /Library/Frameworks/R.framework/Resources/bin/R CMD build --keep-empty-dirs --no-resave-data EpiCompare StartedAt: 2025-11-09 16:19:48 -0500 (Sun, 09 Nov 2025) EndedAt: 2025-11-09 16:20:20 -0500 (Sun, 09 Nov 2025) EllapsedTime: 32.3 seconds RetCode: 0 Status: OK PackageFile: EpiCompare_1.14.0.tar.gz PackageFileSize: 1.873 MiB