Package: EnrichDO Version: 1.4.0 Command: /home/biocbuild/bbs-3.22-bioc/R/bin/R CMD check --install=check:EnrichDO.install-out.txt --library=/home/biocbuild/bbs-3.22-bioc/R/site-library --timings EnrichDO_1.4.0.tar.gz StartedAt: 2025-11-06 23:17:07 -0500 (Thu, 06 Nov 2025) EndedAt: 2025-11-06 23:22:09 -0500 (Thu, 06 Nov 2025) EllapsedTime: 302.2 seconds RetCode: 0 Status: OK CheckDir: EnrichDO.Rcheck Warnings: 0