Package: EnrichDO Version: 1.2.0 Command: /home/biocbuild/bbs-3.21-bioc/R/bin/R CMD build --keep-empty-dirs --no-resave-data EnrichDO StartedAt: 2025-10-05 17:22:53 -0400 (Sun, 05 Oct 2025) EndedAt: 2025-10-05 17:24:20 -0400 (Sun, 05 Oct 2025) EllapsedTime: 87.2 seconds RetCode: 0 Status: OK PackageFile: EnrichDO_1.2.0.tar.gz PackageFileSize: 2.509 MiB