Package: EnrichDO Version: 1.2.0 Command: /Library/Frameworks/R.framework/Resources/bin/R CMD INSTALL EnrichDO StartedAt: 2025-09-29 16:40:49 -0400 (Mon, 29 Sep 2025) EndedAt: 2025-09-29 16:41:50 -0400 (Mon, 29 Sep 2025) EllapsedTime: 60.5 seconds RetCode: 0 Status: OK