Package: EmpiricalBrownsMethod Version: 1.37.0 Command: F:\biocbuild\bbs-3.22-bioc\R\bin\R.exe CMD check --no-multiarch --install=check:EmpiricalBrownsMethod.install-out.txt --library=F:\biocbuild\bbs-3.22-bioc\R\library --no-vignettes --timings EmpiricalBrownsMethod_1.37.0.tar.gz StartedAt: 2025-08-15 02:55:51 -0400 (Fri, 15 Aug 2025) EndedAt: 2025-08-15 02:56:18 -0400 (Fri, 15 Aug 2025) EllapsedTime: 26.6 seconds RetCode: 0 Status: OK CheckDir: EmpiricalBrownsMethod.Rcheck Warnings: 0