Package: EmpiricalBrownsMethod Version: 1.38.0 Command: /home/biocbuild/bbs-3.22-bioc/R/bin/R CMD check --install=check:EmpiricalBrownsMethod.install-out.txt --library=/home/biocbuild/bbs-3.22-bioc/R/site-library --timings EmpiricalBrownsMethod_1.38.0.tar.gz StartedAt: 2025-11-02 23:31:58 -0500 (Sun, 02 Nov 2025) EndedAt: 2025-11-02 23:32:14 -0500 (Sun, 02 Nov 2025) EllapsedTime: 16.0 seconds RetCode: 0 Status: OK CheckDir: EmpiricalBrownsMethod.Rcheck Warnings: 0